Package: HEM Version: 1.79.0 Command: E:\biocbuild\bbs-3.21-bioc\R\bin\R.exe CMD check --no-multiarch --install=check:HEM.install-out.txt --library=E:\biocbuild\bbs-3.21-bioc\R\library --no-vignettes --timings HEM_1.79.0.tar.gz StartedAt: 2025-02-10 01:52:23 -0500 (Mon, 10 Feb 2025) EndedAt: 2025-02-10 01:53:06 -0500 (Mon, 10 Feb 2025) EllapsedTime: 42.9 seconds RetCode: 0 Status: OK CheckDir: HEM.Rcheck Warnings: 0