Package: HERON Version: 1.5.0 Command: rm -rf HERON.buildbin-libdir && mkdir HERON.buildbin-libdir && /Users/biocbuild/BBS/utils/build-universal.sh HERON_1.5.0.tar.gz /Library/Frameworks/R.framework/Resources/bin/R HERON.buildbin-libdir StartedAt: 2025-02-05 22:22:12 -0500 (Wed, 05 Feb 2025) EndedAt: 2025-02-05 22:22:21 -0500 (Wed, 05 Feb 2025) EllapsedTime: 9.2 seconds RetCode: 0 Status: OK PackageFile: HERON_1.5.0.tgz PackageFileSize: 1.077 MiB