Package: HERON Version: 1.5.0 Command: /Library/Frameworks/R.framework/Resources/bin/R CMD build --keep-empty-dirs --no-resave-data HERON StartedAt: 2025-02-05 16:36:48 -0500 (Wed, 05 Feb 2025) EndedAt: 2025-02-05 16:37:14 -0500 (Wed, 05 Feb 2025) EllapsedTime: 26.3 seconds RetCode: 0 Status: OK PackageFile: HERON_1.5.0.tar.gz PackageFileSize: 964.8 KiB