Package: HERON Version: 1.5.0 Command: /Library/Frameworks/R.framework/Resources/bin/R CMD INSTALL HERON StartedAt: 2025-02-05 15:22:30 -0500 (Wed, 05 Feb 2025) EndedAt: 2025-02-05 15:22:39 -0500 (Wed, 05 Feb 2025) EllapsedTime: 8.9 seconds RetCode: 0 Status: OK