Package: HERON Version: 1.5.0 Command: /Library/Frameworks/R.framework/Resources/bin/R CMD build --keep-empty-dirs --no-resave-data HERON StartedAt: 2025-02-05 16:58:33 -0500 (Wed, 05 Feb 2025) EndedAt: 2025-02-05 16:59:52 -0500 (Wed, 05 Feb 2025) EllapsedTime: 79.7 seconds RetCode: 0 Status: OK PackageFile: HERON_1.5.0.tar.gz PackageFileSize: 964.5 KiB