Package: HERON Version: 1.5.0 Command: /Library/Frameworks/R.framework/Resources/bin/R CMD check --install=check:HERON.install-out.txt --library=/Library/Frameworks/R.framework/Resources/library --no-vignettes --timings HERON_1.5.0.tar.gz StartedAt: 2025-02-05 20:59:14 -0500 (Wed, 05 Feb 2025) EndedAt: 2025-02-05 21:05:15 -0500 (Wed, 05 Feb 2025) EllapsedTime: 360.7 seconds RetCode: 0 Status: OK CheckDir: HERON.Rcheck Warnings: 0