Package: HERON Version: 1.5.0 Command: /Library/Frameworks/R.framework/Resources/bin/R CMD INSTALL HERON StartedAt: 2025-02-05 15:34:49 -0500 (Wed, 05 Feb 2025) EndedAt: 2025-02-05 15:35:18 -0500 (Wed, 05 Feb 2025) EllapsedTime: 28.5 seconds RetCode: 0 Status: OK