Package: HERON Version: 1.5.0 Command: /home/biocbuild/bbs-3.21-bioc/R/bin/R CMD check --install=check:HERON.install-out.txt --library=/home/biocbuild/bbs-3.21-bioc/R/site-library --timings HERON_1.5.0.tar.gz StartedAt: 2025-02-05 23:06:50 -0500 (Wed, 05 Feb 2025) EndedAt: 2025-02-05 23:13:17 -0500 (Wed, 05 Feb 2025) EllapsedTime: 386.6 seconds RetCode: 0 Status: OK CheckDir: HERON.Rcheck Warnings: 0