Package: HERON Version: 1.5.0 Command: /home/biocbuild/bbs-3.21-bioc/R/bin/R CMD INSTALL HERON StartedAt: 2025-02-05 15:22:19 -0500 (Wed, 05 Feb 2025) EndedAt: 2025-02-05 15:22:41 -0500 (Wed, 05 Feb 2025) EllapsedTime: 21.1 seconds RetCode: 0 Status: OK