Package: HERON Version: 1.5.0 Command: rm -rf HERON.buildbin-libdir && mkdir HERON.buildbin-libdir && E:\biocbuild\bbs-3.21-bioc\R\bin\R.exe CMD INSTALL --build --library=HERON.buildbin-libdir HERON_1.5.0.tar.gz StartedAt: 2025-02-05 08:06:48 -0500 (Wed, 05 Feb 2025) EndedAt: 2025-02-05 08:07:28 -0500 (Wed, 05 Feb 2025) EllapsedTime: 40.5 seconds RetCode: 0 Status: OK PackageFile: HERON_1.5.0.zip PackageFileSize: 1.078 MiB