Package: HERON Version: 1.5.0 Command: chmod a+r HERON -R && E:\biocbuild\bbs-3.21-bioc\R\bin\R.exe CMD build --keep-empty-dirs --no-resave-data HERON StartedAt: 2025-02-04 19:15:09 -0500 (Tue, 04 Feb 2025) EndedAt: 2025-02-04 19:16:45 -0500 (Tue, 04 Feb 2025) EllapsedTime: 96.6 seconds RetCode: 0 Status: OK PackageFile: HERON_1.5.0.tar.gz PackageFileSize: 964.9 KiB