Package: HERON Version: 1.5.0 Command: E:\biocbuild\bbs-3.21-bioc\R\bin\R.exe CMD INSTALL HERON StartedAt: 2025-02-04 16:36:19 -0500 (Tue, 04 Feb 2025) EndedAt: 2025-02-04 16:36:54 -0500 (Tue, 04 Feb 2025) EllapsedTime: 34.8 seconds RetCode: 0 Status: OK