Package: HGC Version: 1.15.0 Maintainer: XGlab MaintainerEmail: xglab at mail.tsinghua.edu.cn git_url: https://git.bioconductor.org/packages/HGC git_branch: devel git_last_commit: c8f04e4 git_last_commit_date: 2024-10-29 11:00:00 -0500 (Tue, 29 Oct 2024)