Package: HGC Version: 1.15.0 Command: /Library/Frameworks/R.framework/Resources/bin/R CMD check --install=check:HGC.install-out.txt --library=/Library/Frameworks/R.framework/Resources/library --no-vignettes --timings HGC_1.15.0.tar.gz StartedAt: 2025-02-09 19:36:45 -0500 (Sun, 09 Feb 2025) EndedAt: 2025-02-09 19:37:59 -0500 (Sun, 09 Feb 2025) EllapsedTime: 74.9 seconds RetCode: 0 Status: WARNINGS CheckDir: HGC.Rcheck Warnings: 1