Package: HGC Version: 1.15.0 Command: /home/biocbuild/R/R/bin/R CMD check --install=check:HGC.install-out.txt --library=/home/biocbuild/R/R/site-library --no-vignettes --timings HGC_1.15.0.tar.gz StartedAt: 2025-01-28 11:26:20 -0000 (Tue, 28 Jan 2025) EndedAt: 2025-01-28 11:30:30 -0000 (Tue, 28 Jan 2025) EllapsedTime: 250.2 seconds RetCode: 0 Status: WARNINGS CheckDir: HGC.Rcheck Warnings: 2