Package: HGC Version: 1.15.0 Command: /home/biocbuild/bbs-3.21-bioc/R/bin/R CMD check --install=check:HGC.install-out.txt --library=/home/biocbuild/bbs-3.21-bioc/R/site-library --timings HGC_1.15.0.tar.gz StartedAt: 2025-02-09 23:04:36 -0500 (Sun, 09 Feb 2025) EndedAt: 2025-02-09 23:07:52 -0500 (Sun, 09 Feb 2025) EllapsedTime: 195.8 seconds RetCode: 0 Status: WARNINGS CheckDir: HGC.Rcheck Warnings: 1