Package: HGC Version: 1.15.0 Command: rm -rf HGC.buildbin-libdir && mkdir HGC.buildbin-libdir && E:\biocbuild\bbs-3.21-bioc\R\bin\R.exe CMD INSTALL --build --library=HGC.buildbin-libdir HGC_1.15.0.tar.gz StartedAt: 2025-02-13 08:06:14 -0500 (Thu, 13 Feb 2025) EndedAt: 2025-02-13 08:07:32 -0500 (Thu, 13 Feb 2025) EllapsedTime: 77.4 seconds RetCode: 0 Status: OK PackageFile: HGC_1.15.0.zip PackageFileSize: 795.5 KiB