Package: HIPPO Version: 1.19.0 Command: /Library/Frameworks/R.framework/Resources/bin/R CMD build --keep-empty-dirs --no-resave-data HIPPO StartedAt: 2025-02-09 16:37:34 -0500 (Sun, 09 Feb 2025) EndedAt: 2025-02-09 16:37:50 -0500 (Sun, 09 Feb 2025) EllapsedTime: 16.2 seconds RetCode: 0 Status: OK PackageFile: HIPPO_1.19.0.tar.gz PackageFileSize: 646.6 KiB