Package: HIPPO Version: 1.19.0 Command: /Library/Frameworks/R.framework/Resources/bin/R CMD check --install=check:HIPPO.install-out.txt --library=/Library/Frameworks/R.framework/Resources/library --no-vignettes --timings HIPPO_1.19.0.tar.gz StartedAt: 2025-02-09 19:38:36 -0500 (Sun, 09 Feb 2025) EndedAt: 2025-02-09 19:39:48 -0500 (Sun, 09 Feb 2025) EllapsedTime: 71.9 seconds RetCode: 0 Status: OK CheckDir: HIPPO.Rcheck Warnings: 0