Package: HIPPO Version: 1.19.0 Command: /Library/Frameworks/R.framework/Resources/bin/R CMD INSTALL HIPPO StartedAt: 2025-02-12 15:06:25 -0500 (Wed, 12 Feb 2025) EndedAt: 2025-02-12 15:06:35 -0500 (Wed, 12 Feb 2025) EllapsedTime: 10.0 seconds RetCode: 0 Status: OK