Package: HIPPO Version: 1.19.0 Command: /home/biocbuild/R/R/bin/R CMD INSTALL HIPPO StartedAt: 2025-01-29 19:42:49 -0000 (Wed, 29 Jan 2025) EndedAt: 2025-01-29 19:43:23 -0000 (Wed, 29 Jan 2025) EllapsedTime: 34.5 seconds RetCode: 0 Status: OK