Package: HIPPO Version: 1.19.0 Command: /home/biocbuild/bbs-3.21-bioc/R/bin/R CMD build --keep-empty-dirs --no-resave-data HIPPO StartedAt: 2025-02-09 17:39:42 -0500 (Sun, 09 Feb 2025) EndedAt: 2025-02-09 17:40:21 -0500 (Sun, 09 Feb 2025) EllapsedTime: 39.1 seconds RetCode: 0 Status: OK PackageFile: HIPPO_1.19.0.tar.gz PackageFileSize: 627.8 KiB