Package: HIPPO Version: 1.19.0 Command: /home/biocbuild/bbs-3.21-bioc/R/bin/R CMD INSTALL HIPPO StartedAt: 2025-02-09 15:19:00 -0500 (Sun, 09 Feb 2025) EndedAt: 2025-02-09 15:19:25 -0500 (Sun, 09 Feb 2025) EllapsedTime: 24.7 seconds RetCode: 0 Status: OK