Package: HMMcopy Version: 1.49.0 Command: /Library/Frameworks/R.framework/Resources/bin/R CMD build --keep-empty-dirs --no-resave-data HMMcopy StartedAt: 2025-02-09 16:38:09 -0500 (Sun, 09 Feb 2025) EndedAt: 2025-02-09 16:38:22 -0500 (Sun, 09 Feb 2025) EllapsedTime: 13.1 seconds RetCode: 0 Status: OK PackageFile: HMMcopy_1.49.0.tar.gz PackageFileSize: 1.771 MiB