Package: HMMcopy Version: 1.49.0 Command: /Library/Frameworks/R.framework/Resources/bin/R CMD INSTALL HMMcopy StartedAt: 2025-02-12 15:01:27 -0500 (Wed, 12 Feb 2025) EndedAt: 2025-02-12 15:01:33 -0500 (Wed, 12 Feb 2025) EllapsedTime: 6.1 seconds RetCode: 0 Status: OK