Package: HMMcopy Version: 1.49.0 Command: E:\biocbuild\bbs-3.21-bioc\R\bin\R.exe CMD INSTALL HMMcopy StartedAt: 2025-02-09 15:20:11 -0500 (Sun, 09 Feb 2025) EndedAt: 2025-02-09 15:20:47 -0500 (Sun, 09 Feb 2025) EllapsedTime: 36.0 seconds RetCode: 0 Status: OK