Package: Harman Version: 1.35.0 Command: rm -rf Harman.buildbin-libdir && mkdir Harman.buildbin-libdir && /Users/biocbuild/BBS/utils/build-universal.sh Harman_1.35.0.tar.gz /Library/Frameworks/R.framework/Resources/bin/R Harman.buildbin-libdir StartedAt: 2025-02-04 22:19:00 -0500 (Tue, 04 Feb 2025) EndedAt: 2025-02-04 22:19:05 -0500 (Tue, 04 Feb 2025) EllapsedTime: 5.1 seconds RetCode: 0 Status: OK PackageFile: Harman_1.35.0.tgz PackageFileSize: 2.17 MiB