Package: Harman Version: 1.35.0 Command: /Library/Frameworks/R.framework/Resources/bin/R CMD build --keep-empty-dirs --no-resave-data Harman StartedAt: 2025-02-09 16:34:57 -0500 (Sun, 09 Feb 2025) EndedAt: 2025-02-09 16:36:01 -0500 (Sun, 09 Feb 2025) EllapsedTime: 63.6 seconds RetCode: 0 Status: OK PackageFile: Harman_1.35.0.tar.gz PackageFileSize: 2.121 MiB