Package: Harman Version: 1.35.0 Command: /home/biocbuild/R/R/bin/R CMD build --keep-empty-dirs --no-resave-data Harman StartedAt: 2025-01-28 23:30:46 -0000 (Tue, 28 Jan 2025) EndedAt: 2025-01-28 23:34:23 -0000 (Tue, 28 Jan 2025) EllapsedTime: 217.1 seconds RetCode: 0 Status: OK PackageFile: Harman_1.35.0.tar.gz PackageFileSize: 1.134 MiB