Package: Harman Version: 1.35.0 Command: /Library/Frameworks/R.framework/Resources/bin/R CMD INSTALL Harman StartedAt: 2025-02-04 15:06:50 -0500 (Tue, 04 Feb 2025) EndedAt: 2025-02-04 15:07:17 -0500 (Tue, 04 Feb 2025) EllapsedTime: 27.1 seconds RetCode: 0 Status: OK