Package: Harman Version: 1.35.0 Command: /home/biocbuild/bbs-3.21-bioc/R/bin/R CMD build --keep-empty-dirs --no-resave-data Harman StartedAt: 2025-02-09 17:35:08 -0500 (Sun, 09 Feb 2025) EndedAt: 2025-02-09 17:37:37 -0500 (Sun, 09 Feb 2025) EllapsedTime: 149.4 seconds RetCode: 0 Status: OK PackageFile: Harman_1.35.0.tar.gz PackageFileSize: 2.223 MiB