Package: Harman Version: 1.35.0 Command: /home/biocbuild/bbs-3.21-bioc/R/bin/R CMD check --install=check:Harman.install-out.txt --library=/home/biocbuild/bbs-3.21-bioc/R/site-library --timings Harman_1.35.0.tar.gz StartedAt: 2025-02-09 23:01:53 -0500 (Sun, 09 Feb 2025) EndedAt: 2025-02-09 23:05:36 -0500 (Sun, 09 Feb 2025) EllapsedTime: 223.3 seconds RetCode: 0 Status: OK CheckDir: Harman.Rcheck Warnings: 0