############################################################################## ############################################################################## ### ### Running command: ### ### /home/biocbuild/bbs-3.21-bioc/R/bin/R CMD INSTALL Harman ### ############################################################################## ############################################################################## * installing to library ‘/home/biocbuild/bbs-3.21-bioc/R/site-library’ * installing *source* package ‘Harman’ ... ** this is package ‘Harman’ version ‘1.35.0’ ** using staged installation ** libs using C++ compiler: ‘g++ (Ubuntu 13.3.0-6ubuntu2~24.04) 13.3.0’ g++ -std=gnu++17 -I"/home/biocbuild/bbs-3.21-bioc/R/include" -DNDEBUG -D_ARRAYALIGNEMT=4 -D_USE_RCPP=1 -I'/home/biocbuild/bbs-3.21-bioc/R/site-library/Rcpp/include' -I/usr/local/include `/home/biocbuild/bbs-3.21-bioc/R/bin/Rscript -e "Rcpp:::CxxFlags()"` -I. -fpic -g -O2 -DR_NO_REMAP -c Harman.cpp -o Harman.o g++ -std=gnu++17 -shared -L/home/biocbuild/bbs-3.21-bioc/R/lib -L/usr/local/lib -o Harman.so Harman.o -L/home/biocbuild/bbs-3.21-bioc/R/lib -lR installing to /home/biocbuild/bbs-3.21-bioc/R/site-library/00LOCK-Harman/00new/Harman/libs ** R ** inst ** byte-compile and prepare package for lazy loading ** help *** installing help indices ** building package indices ** installing vignettes ** testing if installed package can be loaded from temporary location ** checking absolute paths in shared objects and dynamic libraries ** testing if installed package can be loaded from final location ** testing if installed package keeps a record of temporary installation path * DONE (Harman)