Package: Harman Version: 1.35.0 Command: chmod a+r Harman -R && E:\biocbuild\bbs-3.21-bioc\R\bin\R.exe CMD build --keep-empty-dirs --no-resave-data Harman StartedAt: 2025-02-09 19:10:55 -0500 (Sun, 09 Feb 2025) EndedAt: 2025-02-09 19:14:20 -0500 (Sun, 09 Feb 2025) EllapsedTime: 204.4 seconds RetCode: 0 Status: OK PackageFile: Harman_1.35.0.tar.gz PackageFileSize: 842.5 KiB