Package: Harman Version: 1.35.0 Command: E:\biocbuild\bbs-3.21-bioc\R\bin\R.exe CMD INSTALL Harman StartedAt: 2025-02-04 15:24:03 -0500 (Tue, 04 Feb 2025) EndedAt: 2025-02-04 15:24:25 -0500 (Tue, 04 Feb 2025) EllapsedTime: 21.7 seconds RetCode: 0 Status: OK