Package: Harshlight Version: 1.79.0 Command: rm -rf Harshlight.buildbin-libdir && mkdir Harshlight.buildbin-libdir && /Users/biocbuild/BBS/utils/build-universal.sh Harshlight_1.79.0.tar.gz /Library/Frameworks/R.framework/Resources/bin/R Harshlight.buildbin-libdir StartedAt: 2025-02-03 22:52:58 -0500 (Mon, 03 Feb 2025) EndedAt: 2025-02-03 22:53:04 -0500 (Mon, 03 Feb 2025) EllapsedTime: 6.2 seconds RetCode: 0 Status: OK PackageFile: Harshlight_1.79.0.tgz PackageFileSize: 308.3 KiB