Package: Harshlight Version: 1.79.0 Command: /Library/Frameworks/R.framework/Resources/bin/R CMD build --keep-empty-dirs --no-resave-data Harshlight StartedAt: 2025-02-03 17:11:41 -0500 (Mon, 03 Feb 2025) EndedAt: 2025-02-03 17:11:51 -0500 (Mon, 03 Feb 2025) EllapsedTime: 10.1 seconds RetCode: 0 Status: OK PackageFile: Harshlight_1.79.0.tar.gz PackageFileSize: 268.3 KiB