Package: Harshlight Version: 1.79.0 Command: /Library/Frameworks/R.framework/Resources/bin/R CMD INSTALL Harshlight StartedAt: 2025-02-03 15:40:30 -0500 (Mon, 03 Feb 2025) EndedAt: 2025-02-03 15:40:39 -0500 (Mon, 03 Feb 2025) EllapsedTime: 8.7 seconds RetCode: 0 Status: OK