Package: Harshlight Version: 1.79.0 Command: /home/biocbuild/R/R/bin/R CMD build --keep-empty-dirs --no-resave-data Harshlight StartedAt: 2025-01-28 23:31:23 -0000 (Tue, 28 Jan 2025) EndedAt: 2025-01-28 23:31:48 -0000 (Tue, 28 Jan 2025) EllapsedTime: 25.0 seconds RetCode: 0 Status: OK PackageFile: Harshlight_1.79.0.tar.gz PackageFileSize: 261.6 KiB