Package: Harshlight Version: 1.79.0 Command: /Library/Frameworks/R.framework/Resources/bin/R CMD check --install=check:Harshlight.install-out.txt --library=/Library/Frameworks/R.framework/Resources/library --no-vignettes --timings Harshlight_1.79.0.tar.gz StartedAt: 2025-02-09 21:13:01 -0500 (Sun, 09 Feb 2025) EndedAt: 2025-02-09 21:14:39 -0500 (Sun, 09 Feb 2025) EllapsedTime: 97.3 seconds RetCode: 0 Status: OK CheckDir: Harshlight.Rcheck Warnings: 0