Package: Harshlight Version: 1.79.0 Command: /Library/Frameworks/R.framework/Resources/bin/R CMD INSTALL Harshlight StartedAt: 2025-02-09 15:11:45 -0500 (Sun, 09 Feb 2025) EndedAt: 2025-02-09 15:12:02 -0500 (Sun, 09 Feb 2025) EllapsedTime: 17.1 seconds RetCode: 0 Status: OK