Package: Harshlight Version: 1.79.0 Command: /home/biocbuild/bbs-3.21-bioc/R/bin/R CMD build --keep-empty-dirs --no-resave-data Harshlight StartedAt: 2025-02-03 17:44:08 -0500 (Mon, 03 Feb 2025) EndedAt: 2025-02-03 17:44:27 -0500 (Mon, 03 Feb 2025) EllapsedTime: 19.0 seconds RetCode: 0 Status: OK PackageFile: Harshlight_1.79.0.tar.gz PackageFileSize: 268.3 KiB