Package: Harshlight Version: 1.79.0 Command: /home/biocbuild/bbs-3.21-bioc/R/bin/R CMD check --install=check:Harshlight.install-out.txt --library=/home/biocbuild/bbs-3.21-bioc/R/site-library --timings Harshlight_1.79.0.tar.gz StartedAt: 2025-02-03 23:09:41 -0500 (Mon, 03 Feb 2025) EndedAt: 2025-02-03 23:11:03 -0500 (Mon, 03 Feb 2025) EllapsedTime: 82.1 seconds RetCode: 0 Status: WARNINGS CheckDir: Harshlight.Rcheck Warnings: 1