Package: Harshlight Version: 1.79.0 Command: rm -rf Harshlight.buildbin-libdir && mkdir Harshlight.buildbin-libdir && E:\biocbuild\bbs-3.21-bioc\R\bin\R.exe CMD INSTALL --build --library=Harshlight.buildbin-libdir Harshlight_1.79.0.tar.gz StartedAt: 2025-02-04 08:07:44 -0500 (Tue, 04 Feb 2025) EndedAt: 2025-02-04 08:08:20 -0500 (Tue, 04 Feb 2025) EllapsedTime: 36.3 seconds RetCode: 0 Status: OK PackageFile: Harshlight_1.79.0.zip PackageFileSize: 220.1 KiB