Package: Harshlight Version: 1.79.0 Command: chmod a+r Harshlight -R && E:\biocbuild\bbs-3.21-bioc\R\bin\R.exe CMD build --keep-empty-dirs --no-resave-data Harshlight StartedAt: 2025-02-03 19:23:12 -0500 (Mon, 03 Feb 2025) EndedAt: 2025-02-03 19:23:49 -0500 (Mon, 03 Feb 2025) EllapsedTime: 36.9 seconds RetCode: 0 Status: OK PackageFile: Harshlight_1.79.0.tar.gz PackageFileSize: 174.2 KiB