Package: Harshlight Version: 1.79.0 Command: E:\biocbuild\bbs-3.21-bioc\R\bin\R.exe CMD check --no-multiarch --install=check:Harshlight.install-out.txt --library=E:\biocbuild\bbs-3.21-bioc\R\library --no-vignettes --timings Harshlight_1.79.0.tar.gz StartedAt: 2025-02-10 01:51:16 -0500 (Mon, 10 Feb 2025) EndedAt: 2025-02-10 01:52:56 -0500 (Mon, 10 Feb 2025) EllapsedTime: 100.5 seconds RetCode: 0 Status: WARNINGS CheckDir: Harshlight.Rcheck Warnings: 1