Package: HelloRanges Version: 1.33.0 Command: rm -rf HelloRanges.buildbin-libdir && mkdir HelloRanges.buildbin-libdir && /Users/biocbuild/BBS/utils/build-universal.sh HelloRanges_1.33.0.tar.gz /Library/Frameworks/R.framework/Resources/bin/R HelloRanges.buildbin-libdir StartedAt: 2025-02-09 22:17:10 -0500 (Sun, 09 Feb 2025) EndedAt: 2025-02-09 22:17:29 -0500 (Sun, 09 Feb 2025) EllapsedTime: 18.4 seconds RetCode: 0 Status: OK PackageFile: HelloRanges_1.33.0.tgz PackageFileSize: 954.7 KiB