Package: HelloRanges Version: 1.33.0 Command: /Library/Frameworks/R.framework/Resources/bin/R CMD build --keep-empty-dirs --no-resave-data HelloRanges StartedAt: 2025-02-09 17:02:40 -0500 (Sun, 09 Feb 2025) EndedAt: 2025-02-09 17:07:00 -0500 (Sun, 09 Feb 2025) EllapsedTime: 260.4 seconds RetCode: 0 Status: OK PackageFile: HelloRanges_1.33.0.tar.gz PackageFileSize: 951.7 KiB