Package: HelloRanges Version: 1.33.0 Command: /Library/Frameworks/R.framework/Resources/bin/R CMD check --install=check:HelloRanges.install-out.txt --library=/Library/Frameworks/R.framework/Resources/library --no-vignettes --timings HelloRanges_1.33.0.tar.gz StartedAt: 2025-02-09 21:13:22 -0500 (Sun, 09 Feb 2025) EndedAt: 2025-02-09 21:19:13 -0500 (Sun, 09 Feb 2025) EllapsedTime: 351.6 seconds RetCode: 0 Status: OK CheckDir: HelloRanges.Rcheck Warnings: 0