Package: HelloRanges Version: 1.33.0 Command: /Library/Frameworks/R.framework/Resources/bin/R CMD INSTALL HelloRanges StartedAt: 2025-02-09 15:21:27 -0500 (Sun, 09 Feb 2025) EndedAt: 2025-02-09 15:22:24 -0500 (Sun, 09 Feb 2025) EllapsedTime: 56.5 seconds RetCode: 0 Status: OK